0.0083333333
0.0000000000
0.0000000000
-0.0083333333
-179.9958333333
89.9958333333
