2000.00000000000000000
0.00000000000000000
0.00000000000000000
-2000.00000000000000000
-2904000.00000000000000000
2904000.00000000000000000
