2000.0000000000
0.0000000000
0.0000000000
-2000.0000000000
-2904000.0000000000
2904000.0000000000
