0.01666666666667
0
0
-0.01666666666667
-180
90
