0.06666666666667
0
0
-0.06666666666667
-180
90
