253.60792931598101000
0.00000000000000000
0.00000000000000000
-253.60792931598101000
-548015.43678437138000000
4556369.91902825520000000
