321.42450774890301000
0.00000000000000000
0.00000000000000000
-321.42450774890301000
-5815255.26983391770000000
5774775.90032624170000000
