321.26814216267400000
0.00000000000000000
0.00000000000000000
-321.26814216267394000
-5815967.10009614380000000
5778566.37118828760000000
