252.92601233193301000
0.00000000000000000
0.00000000000000000
-252.92601233193301000
-547460.87012597616000000
4554642.56584665640000000
